BEGIN:VCALENDAR
VERSION:2.0
PRODID:-//AISI - ECPv6.6.2//NONSGML v1.0//EN
CALSCALE:GREGORIAN
METHOD:PUBLISH
X-WR-CALNAME:AISI
X-ORIGINAL-URL:https://ai-science.uci.edu
X-WR-CALDESC:Events for AISI
REFRESH-INTERVAL;VALUE=DURATION:PT1H
X-Robots-Tag:noindex
X-PUBLISHED-TTL:PT1H
BEGIN:VTIMEZONE
TZID:UTC
BEGIN:STANDARD
TZOFFSETFROM:+0000
TZOFFSETTO:+0000
TZNAME:UTC
DTSTART:20200101T000000
END:STANDARD
END:VTIMEZONE
BEGIN:VEVENT
DTSTART;TZID=UTC:20200925T090000
DTEND;TZID=UTC:20200925T170000
DTSTAMP:20260421T191143
CREATED:20240725T202326Z
LAST-MODIFIED:20240725T202339Z
UID:140-1601024400-1601053200@ai-science.uci.edu
SUMMARY:Southern California AI & Biomedicine Symposium
DESCRIPTION:Southern California AI & Biomedicine Symposium\nFriday\, September 25\, 2020 \n2020 AI & Biomedicine Symposium Program
URL:https://ai-science.uci.edu/event/southern-california-ai-biomedicine-symposium/
LOCATION:CA
ATTACH;FMTTYPE=image/png:https://ai-science.uci.edu/wp-content/uploads/2024/07/AI-small-img-2020-v6.png
END:VEVENT
END:VCALENDAR